BEGIN:VCALENDAR
VERSION:2.0
PRODID:-//Sutton Jazz - ECPv6.15.20//NONSGML v1.0//EN
CALSCALE:GREGORIAN
METHOD:PUBLISH
X-ORIGINAL-URL:https://suttonjazz.com/en/
X-WR-CALDESC:Events for Sutton Jazz
REFRESH-INTERVAL;VALUE=DURATION:PT1H
X-Robots-Tag:noindex
X-PUBLISHED-TTL:PT1H
BEGIN:VTIMEZONE
TZID:America/Toronto
BEGIN:DAYLIGHT
TZOFFSETFROM:-0500
TZOFFSETTO:-0400
TZNAME:EDT
DTSTART:20210314T070000
END:DAYLIGHT
BEGIN:STANDARD
TZOFFSETFROM:-0400
TZOFFSETTO:-0500
TZNAME:EST
DTSTART:20211107T060000
END:STANDARD
BEGIN:DAYLIGHT
TZOFFSETFROM:-0500
TZOFFSETTO:-0400
TZNAME:EDT
DTSTART:20220313T070000
END:DAYLIGHT
BEGIN:STANDARD
TZOFFSETFROM:-0400
TZOFFSETTO:-0500
TZNAME:EST
DTSTART:20221106T060000
END:STANDARD
BEGIN:DAYLIGHT
TZOFFSETFROM:-0500
TZOFFSETTO:-0400
TZNAME:EDT
DTSTART:20230312T070000
END:DAYLIGHT
BEGIN:STANDARD
TZOFFSETFROM:-0400
TZOFFSETTO:-0500
TZNAME:EST
DTSTART:20231105T060000
END:STANDARD
END:VTIMEZONE
BEGIN:VEVENT
DTSTART;TZID=America/Toronto:20221002T130000
DTEND;TZID=America/Toronto:20221002T150000
DTSTAMP:20260424T003757
CREATED:20220907T161911Z
LAST-MODIFIED:20230607T181654Z
UID:10000188-1664715600-1664722800@suttonjazz.com
SUMMARY:The Homebrew Dixieland Band
DESCRIPTION:An evening of toe-tapping\, hand-clapping music from New Orleans presented by the band that keeps dixieland jazz alive in the Eastern Townships. Both traditional and original tunes bring to life this joyful and timeless music. \nStanley Lake (trumpet\, vocals)\, Sylvie Goupil (clarinet)\, Dave Reilly (trombone)\, Claude Prud’homme (guitar)\, Michael Hynes (piano)\, Jean Lavigne (percussion) \n\nMORE\n \nhomebrewdixie.com \nPress release
URL:https://suttonjazz.com/en/event/the-homebrew-dixieland-band-5/
LOCATION:Mont SUTTON\, 671\, Maple St.\, Sutton\, QC\, J0E 2K0\, Canada
CATEGORIES:Fall
ATTACH;FMTTYPE=image/jpeg:https://suttonjazz.com/wp-content/uploads/2022/06/DixieLand-1200.jpg
END:VEVENT
BEGIN:VEVENT
DTSTART;TZID=America/Toronto:20221009T130000
DTEND;TZID=America/Toronto:20221009T150000
DTSTAMP:20260424T003757
CREATED:20220907T163248Z
LAST-MODIFIED:20230607T181652Z
UID:10000190-1665320400-1665327600@suttonjazz.com
SUMMARY:Almut Ellinghaus Jazz Ensemble
DESCRIPTION:Presenting traditional jazz standards with a kick and original compositions. An intimate\, upbeat and well-polished performance. Enjoy our close interplay\, daring interpretations\, unexpected improvisations.\nMichael Hynes’ harmonically intricate and rich tonal colours and Stanley Lake’s cabaret-style moritats are brought to life with depth and mirth\, and the unique vocal range and theatricality of Almut Ellinghaus. A performance full of surprises\, humour and magical moments! Special guest: Tevet Sela on saxophone \nAlmut Ellinghaus (voice)\, Stanley Lake (cornet\, flugelhorn\, voice)\, Michael Hynes (keybord\, voice) and special guest\, Tevet Sela on saxophone. \n\nMORE\n \nFacebook AlmutEllinghausEnsemble\nalmutellinghausensemble.bandcamp.com/
URL:https://suttonjazz.com/en/event/almut-ellinghaus-jazz-ensemble-2/
LOCATION:Mont SUTTON\, 671\, Maple St.\, Sutton\, QC\, J0E 2K0\, Canada
CATEGORIES:Fall
ATTACH;FMTTYPE=image/jpeg:https://suttonjazz.com/wp-content/uploads/2022/06/07.28-ELLINGHAUS-16-9.jpg
END:VEVENT
BEGIN:VEVENT
DTSTART;TZID=America/Toronto:20221016T130000
DTEND;TZID=America/Toronto:20221016T150000
DTSTAMP:20260424T003757
CREATED:20220907T173922Z
LAST-MODIFIED:20230607T181646Z
UID:10000192-1665925200-1665932400@suttonjazz.com
SUMMARY:Michael Hynes Trio
DESCRIPTION:A vibrant mix of original and standard jazz repertoire. \nClaude Prud’homme (guitar)\, Michael Hynes (keyboards) and Tevet Sela (saxophone)
URL:https://suttonjazz.com/en/event/michael-hynes-trio-automne/
LOCATION:Mont SUTTON\, 671\, Maple St.\, Sutton\, QC\, J0E 2K0\, Canada
CATEGORIES:Fall
ATTACH;FMTTYPE=image/jpeg:https://suttonjazz.com/wp-content/uploads/2022/09/Hynes-trio-10-16.jpg
END:VEVENT
END:VCALENDAR