BEGIN:VCALENDAR
VERSION:2.0
PRODID:-//Sutton Jazz - ECPv6.15.20//NONSGML v1.0//EN
CALSCALE:GREGORIAN
METHOD:PUBLISH
X-WR-CALNAME:Sutton Jazz
X-ORIGINAL-URL:https://suttonjazz.com/en/
X-WR-CALDESC:Events for Sutton Jazz
REFRESH-INTERVAL;VALUE=DURATION:PT1H
X-Robots-Tag:noindex
X-PUBLISHED-TTL:PT1H
BEGIN:VTIMEZONE
TZID:America/Toronto
BEGIN:DAYLIGHT
TZOFFSETFROM:-0500
TZOFFSETTO:-0400
TZNAME:EDT
DTSTART:20210314T070000
END:DAYLIGHT
BEGIN:STANDARD
TZOFFSETFROM:-0400
TZOFFSETTO:-0500
TZNAME:EST
DTSTART:20211107T060000
END:STANDARD
BEGIN:DAYLIGHT
TZOFFSETFROM:-0500
TZOFFSETTO:-0400
TZNAME:EDT
DTSTART:20220313T070000
END:DAYLIGHT
BEGIN:STANDARD
TZOFFSETFROM:-0400
TZOFFSETTO:-0500
TZNAME:EST
DTSTART:20221106T060000
END:STANDARD
BEGIN:DAYLIGHT
TZOFFSETFROM:-0500
TZOFFSETTO:-0400
TZNAME:EDT
DTSTART:20230312T070000
END:DAYLIGHT
BEGIN:STANDARD
TZOFFSETFROM:-0400
TZOFFSETTO:-0500
TZNAME:EST
DTSTART:20231105T060000
END:STANDARD
END:VTIMEZONE
BEGIN:VEVENT
DTSTART;TZID=America/Toronto:20220918T130000
DTEND;TZID=America/Toronto:20220918T150000
DTSTAMP:20260424T061619
CREATED:20220907T161741Z
LAST-MODIFIED:20230607T181701Z
UID:10000186-1663506000-1663513200@suttonjazz.com
SUMMARY:The Homebrew Dixieland Band
DESCRIPTION:An evening of toe-tapping\, hand-clapping music from New Orleans presented by the band that keeps dixieland jazz alive in the Eastern Townships. Both traditional and original tunes bring to life this joyful and timeless music. \nSome of the Homebrew Dixieland Band: Stanley Lake (trumpet\, vocals)\, Sylvie Goupil (clarinet)\, Claude Prud’homme (guitar)\, Simon Esterez (bass) \n\nMORE\n \nhomebrewdixie.com \nPress release
URL:https://suttonjazz.com/en/event/the-homebrew-dixieland-band-4/
LOCATION:Mont SUTTON\, 671\, Maple St.\, Sutton\, QC\, J0E 2K0\, Canada
CATEGORIES:Fall
ATTACH;FMTTYPE=image/jpeg:https://suttonjazz.com/wp-content/uploads/2022/06/DIXIE-TRIO-WALKABOUT-16-9.jpg
END:VEVENT
END:VCALENDAR