BEGIN:VCALENDAR
VERSION:2.0
PRODID:-//Sutton Jazz - ECPv6.15.20//NONSGML v1.0//EN
CALSCALE:GREGORIAN
METHOD:PUBLISH
X-ORIGINAL-URL:https://suttonjazz.com/en/
X-WR-CALDESC:Events for Sutton Jazz
REFRESH-INTERVAL;VALUE=DURATION:PT1H
X-Robots-Tag:noindex
X-PUBLISHED-TTL:PT1H
BEGIN:VTIMEZONE
TZID:America/Toronto
BEGIN:DAYLIGHT
TZOFFSETFROM:-0500
TZOFFSETTO:-0400
TZNAME:EDT
DTSTART:20210314T070000
END:DAYLIGHT
BEGIN:STANDARD
TZOFFSETFROM:-0400
TZOFFSETTO:-0500
TZNAME:EST
DTSTART:20211107T060000
END:STANDARD
BEGIN:DAYLIGHT
TZOFFSETFROM:-0500
TZOFFSETTO:-0400
TZNAME:EDT
DTSTART:20220313T070000
END:DAYLIGHT
BEGIN:STANDARD
TZOFFSETFROM:-0400
TZOFFSETTO:-0500
TZNAME:EST
DTSTART:20221106T060000
END:STANDARD
BEGIN:DAYLIGHT
TZOFFSETFROM:-0500
TZOFFSETTO:-0400
TZNAME:EDT
DTSTART:20230312T070000
END:DAYLIGHT
BEGIN:STANDARD
TZOFFSETFROM:-0400
TZOFFSETTO:-0500
TZNAME:EST
DTSTART:20231105T060000
END:STANDARD
END:VTIMEZONE
BEGIN:VEVENT
DTSTART;TZID=America/Toronto:20220925T130000
DTEND;TZID=America/Toronto:20220925T150000
DTSTAMP:20260424T032119
CREATED:20220907T141855Z
LAST-MODIFIED:20230607T181658Z
UID:10000165-1664110800-1664118000@suttonjazz.com
SUMMARY:Honeysuckle sisters
DESCRIPTION:The Honeysuckle Sisters\, a vocal close harmony group from the Eastern Townships\, created in 2016\, has performed at festivals and private events\, from Sutton’s Jazz Festival and Fall Festival\, Bromont’s St John’s cultural centre\, Knowlton’s Theatre Lac Brome\, Potton’s Sundays in the Park\, to Sherbrooke’s Loubards\, Howard’s Park and Christmas Market as well as the centre d’art Stanstead. \nWith upbeat arrangements by Kevin Sullivan and Michael Hynes\, original compositions by Stanley Lake\, and close harmonies by Geneviève Lapensée\, Laura Barr and Almut Ellinghaus\, this group is charming audiences with its festive atmosphere and theatrical performance \n\nMORE\n \nFacebook HoneysuckleSisters\nPress Release
URL:https://suttonjazz.com/en/event/honeysuckle-sisters-2/
LOCATION:Mont SUTTON\, 671\, Maple St.\, Sutton\, QC\, J0E 2K0\, Canada
CATEGORIES:Fall
ATTACH;FMTTYPE=image/jpeg:https://suttonjazz.com/wp-content/uploads/2022/06/Honeysuckle-Sisters-3-16-9.jpg
END:VEVENT
END:VCALENDAR