BEGIN:VCALENDAR
VERSION:2.0
PRODID:-//Sutton Jazz - ECPv6.15.20//NONSGML v1.0//EN
CALSCALE:GREGORIAN
METHOD:PUBLISH
X-ORIGINAL-URL:https://suttonjazz.com/en/
X-WR-CALDESC:Events for Sutton Jazz
REFRESH-INTERVAL;VALUE=DURATION:PT1H
X-Robots-Tag:noindex
X-PUBLISHED-TTL:PT1H
BEGIN:VTIMEZONE
TZID:America/Toronto
BEGIN:DAYLIGHT
TZOFFSETFROM:-0500
TZOFFSETTO:-0400
TZNAME:EDT
DTSTART:20210314T070000
END:DAYLIGHT
BEGIN:STANDARD
TZOFFSETFROM:-0400
TZOFFSETTO:-0500
TZNAME:EST
DTSTART:20211107T060000
END:STANDARD
BEGIN:DAYLIGHT
TZOFFSETFROM:-0500
TZOFFSETTO:-0400
TZNAME:EDT
DTSTART:20220313T070000
END:DAYLIGHT
BEGIN:STANDARD
TZOFFSETFROM:-0400
TZOFFSETTO:-0500
TZNAME:EST
DTSTART:20221106T060000
END:STANDARD
BEGIN:DAYLIGHT
TZOFFSETFROM:-0500
TZOFFSETTO:-0400
TZNAME:EDT
DTSTART:20230312T070000
END:DAYLIGHT
BEGIN:STANDARD
TZOFFSETFROM:-0400
TZOFFSETTO:-0500
TZNAME:EST
DTSTART:20231105T060000
END:STANDARD
BEGIN:DAYLIGHT
TZOFFSETFROM:-0500
TZOFFSETTO:-0400
TZNAME:EDT
DTSTART:20240310T070000
END:DAYLIGHT
BEGIN:STANDARD
TZOFFSETFROM:-0400
TZOFFSETTO:-0500
TZNAME:EST
DTSTART:20241103T060000
END:STANDARD
BEGIN:DAYLIGHT
TZOFFSETFROM:-0500
TZOFFSETTO:-0400
TZNAME:EDT
DTSTART:20250309T070000
END:DAYLIGHT
BEGIN:STANDARD
TZOFFSETFROM:-0400
TZOFFSETTO:-0500
TZNAME:EST
DTSTART:20251102T060000
END:STANDARD
END:VTIMEZONE
BEGIN:VEVENT
DTSTART;TZID=America/Toronto:20240107T170000
DTEND;TZID=America/Toronto:20240107T190000
DTSTAMP:20260421T214038
CREATED:20231228T235055Z
LAST-MODIFIED:20231228T235055Z
UID:10001114-1704646800-1704654000@suttonjazz.com
SUMMARY:YEAR ROUND JAZZ - SUTTON BROUËRIEJazz de la Nouvelle-Orléans
DESCRIPTION:Stanley Lake – trumpet\,  voice\, Sylvie Goupil – clarinet\, Édouard Touchette – trombone\, Claude Prud’homme – guitar\, Michael Hynes – keyboards \nMembers of this renowned ensemble perform bayou favorites.
URL:https://suttonjazz.com/en/event/year-round-jazz-sutton-broueriejazz-de-la-nouvelle-orleans/
LOCATION:Auberge Sutton Brouërie\, 27\, Principale S.\, Sutton\, QC\, J0E 2K0\, Canada
CATEGORIES:Jazz at the Brouërie,Festival,JAZZ in Spring
ATTACH;FMTTYPE=image/jpeg:https://suttonjazz.com/wp-content/uploads/2023/06/DIXIE-5-web.jpg
END:VEVENT
BEGIN:VEVENT
DTSTART;TZID=America/Toronto:20231217T170000
DTEND;TZID=America/Toronto:20231217T200000
DTSTAMP:20260421T214038
CREATED:20231110T001452Z
LAST-MODIFIED:20231129T153936Z
UID:10001110-1702832400-1702843200@suttonjazz.com
SUMMARY:JAZZ YEAR ROUND - SUTTON BROUËRIEMarie Neige Chatelain Quartet (Velvet Music)
DESCRIPTION:The AFJP Formation – Annam’s Family Jazz Project – specializes in the intermingling of Jazz aesthetic with other musical genres. Their 3rd album Incantations is a good example (Arabic\, African\, motown\, funk\,\nCool Jazz etc..) as are the other 2 previous albums (Post Bop Pawn Shop and Dim Sum Jazz). They will be in the studio soon for a 4th\nOpus which will pay homage to the great singer/composer Wayne Shorter who\, according to Annam Nguyen –\nfounder\, composer and guitarist of the group. is one of this groups great influences
URL:https://suttonjazz.com/en/event/jazz-year-round-sutton-broueriemarie-neige-chatelain-quartet-velvet-music/
LOCATION:Auberge Sutton Brouërie\, 27\, Principale S.\, Sutton\, QC\, J0E 2K0\, Canada
CATEGORIES:Jazz at the Brouërie,Fall,Festival
ATTACH;FMTTYPE=image/jpeg:https://suttonjazz.com/wp-content/uploads/2023/11/DSCF3325-inside-sleeve.jpeg
END:VEVENT
BEGIN:VEVENT
DTSTART;TZID=America/Toronto:20231210T170000
DTEND;TZID=America/Toronto:20231210T190000
DTSTAMP:20260421T214038
CREATED:20231110T000858Z
LAST-MODIFIED:20231205T125814Z
UID:10001108-1702227600-1702234800@suttonjazz.com
SUMMARY:YEAR ROUND JAZZ - SUTTON BROUËRIEJonction Trio
DESCRIPTION:André Lafleur– double bass\, Claude Prud’homme – guitar\, Richard Lamontagne – lead vocal\, saxophone and flute \nOriginal songs with jazz colors\, mixed with Dubois\, Lelièvre\, Charlebois\, Legrand and jazz standards. All texts are in French…
URL:https://suttonjazz.com/en/event/jazz-a-lannee-sutton-broueriejonction-trio/
LOCATION:Auberge Sutton Brouërie\, 27\, Principale S.\, Sutton\, QC\, J0E 2K0\, Canada
CATEGORIES:Jazz at the Brouërie,Fall,Festival
ATTACH;FMTTYPE=image/jpeg:https://suttonjazz.com/wp-content/uploads/2023/11/Jonction-trio-Brouerie-Sutton.jpeg
END:VEVENT
BEGIN:VEVENT
DTSTART;TZID=America/Toronto:20231126T170000
DTEND;TZID=America/Toronto:20231126T190000
DTSTAMP:20260421T214038
CREATED:20231109T235857Z
LAST-MODIFIED:20231110T002032Z
UID:10001106-1701018000-1701025200@suttonjazz.com
SUMMARY:YEAR ROUND JAZZ - SUTTON BROUËRIEÉdouard Touchette and Seb Bachand
DESCRIPTION:Édouard Touchette – trombone\, Seb Bachand – double basse \n\n\n\n\n\n\n\n\n\n\nDiscover this jazz duo! Enjoy a performance by Édouard Touchette on trombone and Sébastien Bachand on double bass!\nRooted in our magnificent Brome-Missisquoi region\, these two musicians join forces to bring you a unique musical experience\, where trombone and double bass fuse to thrill and transport you to a world of mesmerizing melodies and harmonies.
URL:https://suttonjazz.com/en/event/jazz-a-lannee-sutton-brouerieedouard-touchette-and-seb-bachand/
LOCATION:Auberge Sutton Brouërie\, 27\, Principale S.\, Sutton\, QC\, J0E 2K0\, Canada
CATEGORIES:Jazz at the Brouërie,Fall,Festival
ATTACH;FMTTYPE=image/jpeg:https://suttonjazz.com/wp-content/uploads/2023/11/EdouardTouchette-SebBachand.jpeg
END:VEVENT
BEGIN:VEVENT
DTSTART;TZID=America/Toronto:20231119T170000
DTEND;TZID=America/Toronto:20231119T190000
DTSTAMP:20260421T214038
CREATED:20231109T234421Z
LAST-MODIFIED:20231110T003126Z
UID:10001104-1700413200-1700420400@suttonjazz.com
SUMMARY:YEAR ROUND JAZZ - SUTTON BROUËRIEChris Barr Trio
DESCRIPTION:Benjamin Gilbert – guitar\nAlex Leblanc – bass\nChris Barr – trumpet\n\nA new band has recently been formed\, made up of three Montreal jazz musicians. They all have a great passion for music and not only jazz\, but for other popular styles like Hip Hop\, Neo Soul\, Funk\, etc… \nThis group\, calling themselves the Chris Barr trio\, will play music that should please music lovers.
URL:https://suttonjazz.com/en/event/jazz-a-lannee-sutton-broueriechris-barr-trio/
LOCATION:Auberge Sutton Brouërie\, 27\, Principale S.\, Sutton\, QC\, J0E 2K0\, Canada
CATEGORIES:Jazz at the Brouërie,Fall,Festival
ATTACH;FMTTYPE=image/png:https://suttonjazz.com/wp-content/uploads/2023/11/Screenshot-2023-10-19-at-3.35.54-PM.png
END:VEVENT
BEGIN:VEVENT
DTSTART;TZID=America/Toronto:20231112T170000
DTEND;TZID=America/Toronto:20231112T190000
DTSTAMP:20260421T214038
CREATED:20231109T132947Z
LAST-MODIFIED:20231110T002130Z
UID:10001102-1699808400-1699815600@suttonjazz.com
SUMMARY:YEAR ROUND JAZZ - SUTTON BROUËRIEJazz de la Nouvelle-Orléans
DESCRIPTION:Stanley Lake – trumpet and voice\, Sylvie Goupil – clarinet\, Édouard Touchette – trombone\, Claude Prud’homme – guitar\, Michael Hynes – keyboards \nMembers of this renowned ensemble perform bayou favorites.
URL:https://suttonjazz.com/en/event/jazz-a-lannee-sutton-broueriejazz-de-la-nouvelle-orleans-2/
LOCATION:Auberge Sutton Brouërie\, 27\, Principale S.\, Sutton\, QC\, J0E 2K0\, Canada
CATEGORIES:Jazz at the Brouërie,Fall,Festival
ATTACH;FMTTYPE=image/jpeg:https://suttonjazz.com/wp-content/uploads/2023/06/DIXIE-5-web.jpg
END:VEVENT
BEGIN:VEVENT
DTSTART;TZID=America/Toronto:20231022T180000
DTEND;TZID=America/Toronto:20231022T200000
DTSTAMP:20260421T214038
CREATED:20230926T132103Z
LAST-MODIFIED:20230926T132103Z
UID:10001097-1697997600-1698004800@suttonjazz.com
SUMMARY:JAZZ ALL YEAR AROUND – SUTTON BROUËRIEChris Barr Quartet
DESCRIPTION:Chris Barr – trumpet\, Matys Colpron – drums\, Henri Bouchard – electric bass & Antoine Tousignant – electric guitar \nA new band has just been formed\, made up of four Montreal jazz musicians who all have a great passion for music and not only jazz\, but also other popular styles such as Hip Hop\, Neo Soul\, Funk\, etc…. This band also understands the importance of a good connection with the audience and will play music that should please music lovers.
URL:https://suttonjazz.com/en/event/jazz-all-year-around-sutton-broueriechris-barr-quartet/
LOCATION:Auberge Sutton Brouërie\, 27\, Principale S.\, Sutton\, QC\, J0E 2K0\, Canada
CATEGORIES:Jazz at the Brouërie,Fall,Festival
ATTACH;FMTTYPE=image/jpeg:https://suttonjazz.com/wp-content/uploads/2023/05/Barr-Band-scaled.jpg
END:VEVENT
BEGIN:VEVENT
DTSTART;TZID=America/Toronto:20231015T180000
DTEND;TZID=America/Toronto:20231015T200000
DTSTAMP:20260421T214038
CREATED:20230926T131610Z
LAST-MODIFIED:20230926T131610Z
UID:10001095-1697392800-1697400000@suttonjazz.com
SUMMARY:JAZZ ALL YEAR AROUND - SUTTON BROUËRIEMarie Neige Chatelain Quartet (Velvet Music)
DESCRIPTION:Marie Neige Chatelain – voice\, Jacques Bergeron – guitar\, Thiago Ferté – saxophone\, Jonathan-Guillaume Boudreau – bass. \nTogether\, they share their love for Bossa Nova\, samba\, and velvety rhythms. \nWith Velvet Music\, music becomes a universal language that transcends borders. The repertoire\, sung in Portuguese\, French\, English\, Spanish\, and Italian\, takes listeners on an authentic and immersive musical journey\, allowing them to savor each song in its original language and appreciate its subtle nuances. The lyrics\, carried by Marie Neige’s gentle voice\, invite listeners to be lulled by a wave of musical emotions. \nImmerse yourself in their enchanting universe\, as Velvet Music is much more than just a music band; it’s a sophisticated and intoxicating sensory experience.
URL:https://suttonjazz.com/en/event/jazz-all-year-around-sutton-broueriemarie-neige-chatelain-quartet-velvet-music/
LOCATION:Auberge Sutton Brouërie\, 27\, Principale S.\, Sutton\, QC\, J0E 2K0\, Canada
CATEGORIES:Jazz at the Brouërie,Fall,Festival
ATTACH;FMTTYPE=image/jpeg:https://suttonjazz.com/wp-content/uploads/2023/09/Marie-neige-chatelaine-quartet-automne-2023-10-sept.jpg
END:VEVENT
BEGIN:VEVENT
DTSTART;TZID=America/Toronto:20231008T180000
DTEND;TZID=America/Toronto:20231008T200000
DTSTAMP:20260421T214038
CREATED:20230926T130833Z
LAST-MODIFIED:20230926T132509Z
UID:10001091-1696788000-1696795200@suttonjazz.com
SUMMARY:JAZZ ALL YEAR AROUND – SUTTON BROUËRIEMichael Hynes Trio
DESCRIPTION:Michael Hynes (keyboards)\, Édouard Touchette (trombone) and Tevet Sela (saxophone) \nThese composer/performers offer us their own music as well as exploring the American Songbook for some nuggets from the jazz canon.
URL:https://suttonjazz.com/en/event/jazz-all-year-around-sutton-broueriemichael-hynes-trio/
LOCATION:Auberge Sutton Brouërie\, 27\, Principale S.\, Sutton\, QC\, J0E 2K0\, Canada
CATEGORIES:Jazz at the Brouërie,Fall,Festival
ATTACH;FMTTYPE=image/jpeg:https://suttonjazz.com/wp-content/uploads/2023/09/Michael-Hynes-Trio-Tevet-Sela-Edouard-Touchette.jpg
END:VEVENT
BEGIN:VEVENT
DTSTART;TZID=America/Toronto:20231001T180000
DTEND;TZID=America/Toronto:20231001T200000
DTSTAMP:20260421T214038
CREATED:20230911T122539Z
LAST-MODIFIED:20230926T131839Z
UID:10001085-1696183200-1696190400@suttonjazz.com
SUMMARY:JAZZ ALL YEAR AROUND - SUTTON BROUËRIEWilly LeMaistre Trio
DESCRIPTION:Willy LeMaistre and guests \nA fusion of jazz with other musical genres through the guitar.
URL:https://suttonjazz.com/en/event/jazz-all-year-around-sutton-broueriewilly-lemaistre-trio/
LOCATION:Auberge Sutton Brouërie\, 27\, Principale S.\, Sutton\, QC\, J0E 2K0\, Canada
CATEGORIES:Jazz at the Brouërie,Fall,Festival
ATTACH;FMTTYPE=image/jpeg:https://suttonjazz.com/wp-content/uploads/2023/09/Willy_LeMaistre-trio.jpeg
END:VEVENT
BEGIN:VEVENT
DTSTART;TZID=America/Toronto:20230924T180000
DTEND;TZID=America/Toronto:20230924T200000
DTSTAMP:20260421T214038
CREATED:20230910T142221Z
LAST-MODIFIED:20230910T142221Z
UID:10001079-1695578400-1695585600@suttonjazz.com
SUMMARY:JAZZ ALL YEAR AROUND - SUTTON BROUËRIENew-Orleans Jazz
DESCRIPTION:Stanley Lake – trumpet and voice\, Sylvie Goupil – clarinet\, Édouard Touchette – trombone\, Michael Hynes – keyboards \nFour members of this renowned ensemble perform bayou favourites.
URL:https://suttonjazz.com/en/event/jazz-all-year-around-sutton-brouerienew-orleans-jazz/
LOCATION:Auberge Sutton Brouërie\, 27\, Principale S.\, Sutton\, QC\, J0E 2K0\, Canada
CATEGORIES:Fall,Festival,Jazz at the Brouërie
ATTACH;FMTTYPE=image/jpeg:https://suttonjazz.com/wp-content/uploads/2023/06/DIXIE4-SG-ET_23b.jpg
END:VEVENT
BEGIN:VEVENT
DTSTART;TZID=America/Toronto:20230917T180000
DTEND;TZID=America/Toronto:20230917T200000
DTSTAMP:20260421T214038
CREATED:20230910T134026Z
LAST-MODIFIED:20230910T135334Z
UID:10001073-1694973600-1694980800@suttonjazz.com
SUMMARY:JAZZ ALL YEAR ROUND - SUTTON BROUËRIEAlmut Ellinghaus Jazz Ensemble
DESCRIPTION:Almut Ellinghaus – voice\,  Stanley Lake – trumpet\, Michael Hynes – keyboards \nFor over 9 years this trio has been performing to sold out venues\, dazzling the audience with a mixture of jazz standards\, Vaudeville and Latin. Add in original songs written for Almut by Stan and Mike from their recording ” Is This The Song? ” and a wonderful evening awaits you.
URL:https://suttonjazz.com/en/event/sutton-broueriealmut-ellinghaus-jazz-ensemble/
LOCATION:Auberge Sutton Brouërie\, 27\, Principale S.\, Sutton\, QC\, J0E 2K0\, Canada
CATEGORIES:Fall,Festival,Jazz at the Brouërie
ATTACH;FMTTYPE=image/jpeg:https://suttonjazz.com/wp-content/uploads/2023/06/07.13B.jpg
END:VEVENT
BEGIN:VEVENT
DTSTART;TZID=America/Toronto:20230910T180000
DTEND;TZID=America/Toronto:20230910T200000
DTSTAMP:20260421T214038
CREATED:20230906T200711Z
LAST-MODIFIED:20230910T135415Z
UID:10001066-1694368800-1694376000@suttonjazz.com
SUMMARY:JAZZ ALL YEAR ROUND - SUTTON BROUËRIEMarie Neige Chatelain Quartet (Velvet Music)
DESCRIPTION:Marie Neige Chatelain – voice\, Jacques Bergeron – guitar\, Thiago Ferté – saxophone\, Jonathan-Guillaume Boudreau – bass. \nTogether\, they share their love for Bossa Nova\, samba\, and velvety rhythms. \nWith Velvet Music\, music becomes a universal language that transcends borders. The repertoire\, sung in Portuguese\, French\, English\, Spanish\, and Italian\, takes listeners on an authentic and immersive musical journey\, allowing them to savor each song in its original language and appreciate its subtle nuances. The lyrics\, carried by Marie Neige’s gentle voice\, invite listeners to be lulled by a wave of musical emotions. \nImmerse yourself in their enchanting universe\, as Velvet Music is much more than just a music band; it’s a sophisticated and intoxicating sensory experience.
URL:https://suttonjazz.com/en/event/sutton-broueriemarie-neige-chatelain-quartet-velvet-music/
LOCATION:Auberge Sutton Brouërie\, 27\, Principale S.\, Sutton\, QC\, J0E 2K0\, Canada
CATEGORIES:Fall,Festival,Jazz at the Brouërie
ATTACH;FMTTYPE=image/jpeg:https://suttonjazz.com/wp-content/uploads/2023/09/Marie-neige-chatelaine-quartet-automne-2023-10-sept.jpg
END:VEVENT
BEGIN:VEVENT
DTSTART;TZID=America/Toronto:20230903T170000
DTEND;TZID=America/Toronto:20230903T190000
DTSTAMP:20260421T214038
CREATED:20230606T200414Z
LAST-MODIFIED:20230614T220934Z
UID:10000540-1693760400-1693767600@suttonjazz.com
SUMMARY:SUTTON BROUËRIEJazz from New Orleans
DESCRIPTION:Stanley Lake – trumpet & voice\, Claude Prud’homme – guitar\, Édouard Touchette – trombone\, Michael Hynes – keyboards \n4 members of this renowned ensemble perform bayou favourites.
URL:https://suttonjazz.com/en/event/jazz-from-new-orleans-2/
LOCATION:Auberge Sutton Brouërie\, 27\, Principale S.\, Sutton\, QC\, J0E 2K0\, Canada
CATEGORIES:Festival,Jazz at the Brouërie
ATTACH;FMTTYPE=image/jpeg:https://suttonjazz.com/wp-content/uploads/2023/06/Jazzheads-4-08.20-1.jpg
END:VEVENT
BEGIN:VEVENT
DTSTART;TZID=America/Toronto:20230827T170000
DTEND;TZID=America/Toronto:20230827T190000
DTSTAMP:20260421T214038
CREATED:20230606T195259Z
LAST-MODIFIED:20230614T221625Z
UID:10000544-1693155600-1693162800@suttonjazz.com
SUMMARY:SUTTON BROUËRIEJazz from New Orleans
DESCRIPTION:Stanley Lake – trumpet & voice\, Claude Prud’homme – guitar\, Édouard Touchette – trombone\, Michael Hynes – keyboards \n4 members of this renowned ensemble perform bayou favourites.
URL:https://suttonjazz.com/en/event/jazz-from-new-orleans-3/2023-08-27/
LOCATION:Auberge Sutton Brouërie\, 27\, Principale S.\, Sutton\, QC\, J0E 2K0\, Canada
CATEGORIES:Festival,Jazz at the Brouërie
ATTACH;FMTTYPE=image/jpeg:https://suttonjazz.com/wp-content/uploads/2023/06/DIXIE-5-web.jpg
END:VEVENT
BEGIN:VEVENT
DTSTART;TZID=America/Toronto:20230820T170000
DTEND;TZID=America/Toronto:20230820T190000
DTSTAMP:20260421T214038
CREATED:20230606T195259Z
LAST-MODIFIED:20230614T221625Z
UID:10000543-1692550800-1692558000@suttonjazz.com
SUMMARY:SUTTON BROUËRIEJazz from New Orleans
DESCRIPTION:Stanley Lake – trumpet & voice\, Claude Prud’homme – guitar\, Édouard Touchette – trombone\, Michael Hynes – keyboards \n4 members of this renowned ensemble perform bayou favourites.
URL:https://suttonjazz.com/en/event/jazz-from-new-orleans-3/2023-08-20/
LOCATION:Auberge Sutton Brouërie\, 27\, Principale S.\, Sutton\, QC\, J0E 2K0\, Canada
CATEGORIES:Festival,Jazz at the Brouërie
ATTACH;FMTTYPE=image/jpeg:https://suttonjazz.com/wp-content/uploads/2023/06/DIXIE-5-web.jpg
END:VEVENT
BEGIN:VEVENT
DTSTART;TZID=America/Toronto:20230813T170000
DTEND;TZID=America/Toronto:20230813T190000
DTSTAMP:20260421T214038
CREATED:20230606T195259Z
LAST-MODIFIED:20230614T221625Z
UID:10000542-1691946000-1691953200@suttonjazz.com
SUMMARY:SUTTON BROUËRIEJazz from New Orleans
DESCRIPTION:Stanley Lake – trumpet & voice\, Claude Prud’homme – guitar\, Édouard Touchette – trombone\, Michael Hynes – keyboards \n4 members of this renowned ensemble perform bayou favourites.
URL:https://suttonjazz.com/en/event/jazz-from-new-orleans-3/2023-08-13/
LOCATION:Auberge Sutton Brouërie\, 27\, Principale S.\, Sutton\, QC\, J0E 2K0\, Canada
CATEGORIES:Festival,Jazz at the Brouërie
ATTACH;FMTTYPE=image/jpeg:https://suttonjazz.com/wp-content/uploads/2023/06/DIXIE-5-web.jpg
END:VEVENT
BEGIN:VEVENT
DTSTART;TZID=America/Toronto:20230806T170000
DTEND;TZID=America/Toronto:20230806T190000
DTSTAMP:20260421T214038
CREATED:20230606T195259Z
LAST-MODIFIED:20230614T221625Z
UID:10000541-1691341200-1691348400@suttonjazz.com
SUMMARY:SUTTON BROUËRIEJazz from New Orleans
DESCRIPTION:Stanley Lake – trumpet & voice\, Claude Prud’homme – guitar\, Édouard Touchette – trombone\, Michael Hynes – keyboards \n4 members of this renowned ensemble perform bayou favourites.
URL:https://suttonjazz.com/en/event/jazz-from-new-orleans-3/2023-08-06/
LOCATION:Auberge Sutton Brouërie\, 27\, Principale S.\, Sutton\, QC\, J0E 2K0\, Canada
CATEGORIES:Festival,Jazz at the Brouërie
ATTACH;FMTTYPE=image/jpeg:https://suttonjazz.com/wp-content/uploads/2023/06/DIXIE-5-web.jpg
END:VEVENT
BEGIN:VEVENT
DTSTART;TZID=America/Toronto:20230730T170000
DTEND;TZID=America/Toronto:20230730T190000
DTSTAMP:20260421T214038
CREATED:20230726T114518Z
LAST-MODIFIED:20230726T114519Z
UID:10000807-1690736400-1690743600@suttonjazz.com
SUMMARY:SUTTON BROUËRIEJazz from New Orleans
DESCRIPTION:Stanley Lake – trumpet & voice\, Claude Prud’homme – guitar\, Édouard Touchette – trombone\, Sylvie Goupil – clarinet & Michael Hynes – keyboards \nFive members of this renowned ensemble perform bayou favourites.
URL:https://suttonjazz.com/en/event/jazz-from-new-orleans-4-2/
LOCATION:Auberge Sutton Brouërie\, 27\, Principale S.\, Sutton\, QC\, J0E 2K0\, Canada
CATEGORIES:Festival,Jazz at the Brouërie
ATTACH;FMTTYPE=image/jpeg:https://suttonjazz.com/wp-content/uploads/2023/06/DIXIE-5-web.jpg
END:VEVENT
BEGIN:VEVENT
DTSTART;TZID=America/Toronto:20230723T170000
DTEND;TZID=America/Toronto:20230723T190000
DTSTAMP:20260421T214038
CREATED:20230726T114633Z
LAST-MODIFIED:20230726T170837Z
UID:10000806-1690131600-1690138800@suttonjazz.com
SUMMARY:SUTTON BROUËRIEJazz from New Orleans
DESCRIPTION:Stanley Lake – trumpet & voice\, Claude Prud’homme – guitar\, Édouard Touchette – trombone\, Sylvie Goupil – clarinet & Michael Hynes – keyboards \nFive members of this renowned ensemble perform bayou favourites.
URL:https://suttonjazz.com/en/event/jazz-from-new-orleans-4-3/
LOCATION:Auberge Sutton Brouërie\, 27\, Principale S.\, Sutton\, QC\, J0E 2K0\, Canada
CATEGORIES:Festival,Jazz at the Brouërie
ATTACH;FMTTYPE=image/jpeg:https://suttonjazz.com/wp-content/uploads/2023/06/DIXIE-5-web.jpg
END:VEVENT
BEGIN:VEVENT
DTSTART;TZID=America/Toronto:20220828T170000
DTEND;TZID=America/Toronto:20220828T190000
DTSTAMP:20260421T214038
CREATED:20220614T181738Z
LAST-MODIFIED:20220622T114531Z
UID:10000130-1661706000-1661713200@suttonjazz.com
SUMMARY:Nicolas Fortin Trio
DESCRIPTION:The Nicolas Fortin Trio is composed of a guitarist\, a flugelhorn player and a bassist. They are inspired by Chet Baker’s trio with Doug Rainey and NHOP. The Nicolas Fortin trio plays jazz and blues standards\, as well as some slightly more obscure pieces played by Chet or that the trio simply likes.
URL:https://suttonjazz.com/en/event/nicolas-fortin-trio/
LOCATION:Auberge Sutton Brouërie\, 27\, Principale S.\, Sutton\, QC\, J0E 2K0\, Canada
CATEGORIES:Jazz around the town,Jazz at the Brouërie
ATTACH;FMTTYPE=image/jpeg:https://suttonjazz.com/wp-content/uploads/2022/06/Nicolas-fortin-trio-16x9-1.jpg
END:VEVENT
BEGIN:VEVENT
DTSTART;TZID=America/Toronto:20220814T170000
DTEND;TZID=America/Toronto:20220814T190000
DTSTAMP:20260421T214038
CREATED:20220614T181627Z
LAST-MODIFIED:20220623T131440Z
UID:10000128-1660496400-1660503600@suttonjazz.com
SUMMARY:Simon Esterez Trio
DESCRIPTION:Michael Hynes\, piano\, Willy leMaistre\, guitar and Simon Esterez– bass.
URL:https://suttonjazz.com/en/event/simon-esterez-trio/
LOCATION:Auberge Sutton Brouërie\, 27\, Principale S.\, Sutton\, QC\, J0E 2K0\, Canada
CATEGORIES:Jazz at the Brouërie,Jazz around the town
ATTACH;FMTTYPE=image/jpeg:https://suttonjazz.com/wp-content/uploads/2022/06/08.14-Esterez-Hynes-Lemaistre-16-9.jpg
END:VEVENT
BEGIN:VEVENT
DTSTART;TZID=America/Toronto:20220807T170000
DTEND;TZID=America/Toronto:20220807T190000
DTSTAMP:20260421T214038
CREATED:20220614T181241Z
LAST-MODIFIED:20220622T122048Z
UID:10000126-1659891600-1659898800@suttonjazz.com
SUMMARY:Alex Bellegarde Trio
DESCRIPTION:Alex Bellegarde\, bass\, Davis Kovacs\, trumpet and Willy leMaistre\, guitar
URL:https://suttonjazz.com/en/event/alex-bellegarde-trio/
LOCATION:Auberge Sutton Brouërie\, 27\, Principale S.\, Sutton\, QC\, J0E 2K0\, Canada
CATEGORIES:Jazz at the Brouërie,Jazz around the town
ATTACH;FMTTYPE=image/jpeg:https://suttonjazz.com/wp-content/uploads/2022/06/Alex-Bellegarde-photo-by-Yvan-Couillard-16x9-1.jpg
END:VEVENT
BEGIN:VEVENT
DTSTART;TZID=America/Toronto:20220731T170000
DTEND;TZID=America/Toronto:20220731T190000
DTSTAMP:20260421T214038
CREATED:20220614T180212Z
LAST-MODIFIED:20220621T115511Z
UID:10000124-1659286800-1659294000@suttonjazz.com
SUMMARY:Isabella Rachiele Trio
DESCRIPTION:Isabella Rachiele is a Montreal-based jazz vocalist with a Bachelor of Jazz Performance from McGill. She is currently completing her master’s degree in Music Therapy at Concordia. She regularly performs jazz as well as R&B\, funk\, neo-soul\, and pop in and around Montreal. The Isabella Rachiele trio will deliver an evening filled with soulful arrangements of jazz standards from her idols such as Chet Baker\, Ella Fitzgerald\, Nat King Cole\, and more. \n \nMore
URL:https://suttonjazz.com/en/event/isabella-rachiele-trio/
LOCATION:Auberge Sutton Brouërie\, 27\, Principale S.\, Sutton\, QC\, J0E 2K0\, Canada
CATEGORIES:Jazz at the Brouërie,Jazz around the town
ATTACH;FMTTYPE=image/jpeg:https://suttonjazz.com/wp-content/uploads/2022/06/IRT-IMG_2016-16x9-1.jpg
END:VEVENT
BEGIN:VEVENT
DTSTART;TZID=America/Toronto:20220724T170000
DTEND;TZID=America/Toronto:20220724T190000
DTSTAMP:20260421T214038
CREATED:20220614T175209Z
LAST-MODIFIED:20220622T122427Z
UID:10000122-1658682000-1658689200@suttonjazz.com
SUMMARY:Racicot Boudreau Savoie Trio
DESCRIPTION:The trio will interpret standards from the jazz tradition. \nMaxime Racicot\, guitar\, Jonathan-Guillaume Boudreau\, bass and Richard Savoie\, tenor saxophone.
URL:https://suttonjazz.com/en/event/racicot-boudreau-savoie-trio/
LOCATION:Auberge Sutton Brouërie\, 27\, Principale S.\, Sutton\, QC\, J0E 2K0\, Canada
CATEGORIES:Jazz around the town,Jazz at the Brouërie
ATTACH;FMTTYPE=image/jpeg:https://suttonjazz.com/wp-content/uploads/2022/06/Trio-Racicot-Boudreau-Savoie.jpg
END:VEVENT
BEGIN:VEVENT
DTSTART;TZID=America/Toronto:20220717T170000
DTEND;TZID=America/Toronto:20220717T190000
DTSTAMP:20260421T214039
CREATED:20220614T174812Z
LAST-MODIFIED:20220622T122540Z
UID:10000120-1658077200-1658084400@suttonjazz.com
SUMMARY:The Barr Band
DESCRIPTION:Nicolas Lanctôt\, guitar\, Vincent Dessureault\, bass and Chris Barr\, trumpet
URL:https://suttonjazz.com/en/event/the-barr-band/
LOCATION:Auberge Sutton Brouërie\, 27\, Principale S.\, Sutton\, QC\, J0E 2K0\, Canada
CATEGORIES:Jazz around the town,Jazz at the Brouërie
ATTACH;FMTTYPE=image/jpeg:https://suttonjazz.com/wp-content/uploads/2022/06/the-barr-band-16x9-1.jpg
END:VEVENT
BEGIN:VEVENT
DTSTART;TZID=America/Toronto:20220710T170000
DTEND;TZID=America/Toronto:20220710T190000
DTSTAMP:20260421T214039
CREATED:20220614T174627Z
LAST-MODIFIED:20220622T113440Z
UID:10000118-1657472400-1657479600@suttonjazz.com
SUMMARY:Christine Maisonneuve Trio
DESCRIPTION:Soul jazz with a touch of funk. \nChristine Maisonneuve (vocals) with Willy leMaistre (guitar) and Seb Bachand (bass)
URL:https://suttonjazz.com/en/event/christine-maisonneuve-trio/
LOCATION:Auberge Sutton Brouërie\, 27\, Principale S.\, Sutton\, QC\, J0E 2K0\, Canada
CATEGORIES:Jazz around the town,Jazz at the Brouërie
ATTACH;FMTTYPE=image/jpeg:https://suttonjazz.com/wp-content/uploads/2022/06/christine-maisonneuve-trio-16x9-1.jpg
END:VEVENT
BEGIN:VEVENT
DTSTART;TZID=America/Toronto:20220703T170000
DTEND;TZID=America/Toronto:20220703T190000
DTSTAMP:20260421T214039
CREATED:20220614T174255Z
LAST-MODIFIED:20220621T120341Z
UID:10000116-1656867600-1656874800@suttonjazz.com
SUMMARY:Zacharie Bachand Trio
DESCRIPTION:Zacharie Bachand’s new ensemble presents a collection of standards and original compositions inspired by folk and jazz music. \nZacharie Bachand (electric guitar & pedal steel) with Sébastien Bachand (bass & acoustic guitar) and Aleksi Campagne (violin).
URL:https://suttonjazz.com/en/event/zacharie-bachand-trio/
LOCATION:Auberge Sutton Brouërie\, 27\, Principale S.\, Sutton\, QC\, J0E 2K0\, Canada
CATEGORIES:Jazz around the town,Jazz at the Brouërie
ATTACH;FMTTYPE=image/jpeg:https://suttonjazz.com/wp-content/uploads/2022/06/Zach-Bachand-16x9-1.jpg
END:VEVENT
END:VCALENDAR