BEGIN:VCALENDAR
VERSION:2.0
PRODID:-//Sutton Jazz - ECPv6.15.20//NONSGML v1.0//EN
CALSCALE:GREGORIAN
METHOD:PUBLISH
X-ORIGINAL-URL:https://suttonjazz.com
X-WR-CALDESC:Évènements pour Sutton Jazz
REFRESH-INTERVAL;VALUE=DURATION:PT1H
X-Robots-Tag:noindex
X-PUBLISHED-TTL:PT1H
BEGIN:VTIMEZONE
TZID:America/Toronto
BEGIN:DAYLIGHT
TZOFFSETFROM:-0500
TZOFFSETTO:-0400
TZNAME:EDT
DTSTART:20210314T070000
END:DAYLIGHT
BEGIN:STANDARD
TZOFFSETFROM:-0400
TZOFFSETTO:-0500
TZNAME:EST
DTSTART:20211107T060000
END:STANDARD
BEGIN:DAYLIGHT
TZOFFSETFROM:-0500
TZOFFSETTO:-0400
TZNAME:EDT
DTSTART:20220313T070000
END:DAYLIGHT
BEGIN:STANDARD
TZOFFSETFROM:-0400
TZOFFSETTO:-0500
TZNAME:EST
DTSTART:20221106T060000
END:STANDARD
BEGIN:DAYLIGHT
TZOFFSETFROM:-0500
TZOFFSETTO:-0400
TZNAME:EDT
DTSTART:20230312T070000
END:DAYLIGHT
BEGIN:STANDARD
TZOFFSETFROM:-0400
TZOFFSETTO:-0500
TZNAME:EST
DTSTART:20231105T060000
END:STANDARD
BEGIN:DAYLIGHT
TZOFFSETFROM:-0500
TZOFFSETTO:-0400
TZNAME:EDT
DTSTART:20240310T070000
END:DAYLIGHT
BEGIN:STANDARD
TZOFFSETFROM:-0400
TZOFFSETTO:-0500
TZNAME:EST
DTSTART:20241103T060000
END:STANDARD
END:VTIMEZONE
BEGIN:VEVENT
DTSTART;TZID=America/Toronto:20230924T180000
DTEND;TZID=America/Toronto:20230924T200000
DTSTAMP:20260423T214225
CREATED:20230910T142221Z
LAST-MODIFIED:20230926T131657Z
UID:10001078-1695578400-1695585600@suttonjazz.com
SUMMARY:JAZZ À L'ANNÉE - SUTTON BROUËRIEJazz de la Nouvelle-Orléans
DESCRIPTION:Stanley Lake – trompette et voix\, Sylvie Goupil – clarinette\, Édouard Touchette – trombone\, Michael Hynes – clavier \nQuatre membres de cet ensemble renommé interprètent des chansons favorites du bayou.
URL:https://suttonjazz.com/event/jazz-a-lannee-sutton-broueriejazz-de-la-nouvelle-orleans/
LOCATION:Auberge Sutton Brouërie\, 27 rue Principale Sud\, Sutton\, Québec\, J0E 2K0\, Canada
CATEGORIES:Jazz à la Brouërie,Festival,Automne
ATTACH;FMTTYPE=image/jpeg:https://suttonjazz.com/wp-content/uploads/2023/06/DIXIE4-SG-ET_23b.jpg
END:VEVENT
BEGIN:VEVENT
DTSTART;TZID=America/Toronto:20230917T180000
DTEND;TZID=America/Toronto:20230917T200000
DTSTAMP:20260423T214225
CREATED:20230910T134026Z
LAST-MODIFIED:20230910T135304Z
UID:10001072-1694973600-1694980800@suttonjazz.com
SUMMARY:JAZZ À L'ANNÉE - SUTTON BROUËRIEAlmut Ellinghaus Jazz Ensemble
DESCRIPTION:Almut Ellinghaus – voix\,  Stanley Lake – trompette\, Michael Hynes – clavier \nDepuis plus de 9 ans\, ce trio se produit à guichets fermés\, éblouissant le public avec un mélange de standards de jazz\, de vaudeville et de musique latine. Ajoutez à cela des chansons originales écrites pour Almut par Stan et Mike et tirées de leur enregistrement  » Is This The Song ?  » et une merveilleuse soirée vous attend.
URL:https://suttonjazz.com/event/sutton-broueriealmut-ellinghaus-jazz-ensemble/
LOCATION:Auberge Sutton Brouërie\, 27 rue Principale Sud\, Sutton\, Québec\, J0E 2K0\, Canada
CATEGORIES:Jazz à la Brouërie,Festival,Automne
ATTACH;FMTTYPE=image/jpeg:https://suttonjazz.com/wp-content/uploads/2023/06/07.13B.jpg
END:VEVENT
BEGIN:VEVENT
DTSTART;TZID=America/Toronto:20230910T180000
DTEND;TZID=America/Toronto:20230910T200000
DTSTAMP:20260423T214225
CREATED:20230906T200711Z
LAST-MODIFIED:20230910T134219Z
UID:10001065-1694368800-1694376000@suttonjazz.com
SUMMARY:JAZZ À L'ANNÉE - SUTTON BROUËRIEMarie Neige Chatelain Quartet (Velvet Music)
DESCRIPTION:Marie Neige Chatelain – voix\, Jacques Bergeron – guitare\, Thiago Ferté – saxophone\, Jonathan-Guillaume Boudreau – basse. \nEnsemble\, ils partagent leur amour pour la Bossa Nova\, la samba et les rythmes veloutés.\nAvec Velvet Music\, la musique devient une langue universelle qui transcende les frontières. Le répertoire\, chanté en portugais\, français\, anglais\, espagnol et italien\, transporte les auditeurs dans un voyage musical authentique et immersif\, leur permettant de savourer chaque chanson dans sa langue originale et d’en apprécier les nuances subtiles. Les paroles\, portées par la voix douce de Marie Neige\, invitent les auditeurs à se laisser bercer par une vague d’émotions musicales.\nPlongez dans leur univers envoûtant\, car Velvet Music\, c’est bien plus qu’un simple groupe de musique\, c’est une expérience sensorielle sophistiquée et enivrante.
URL:https://suttonjazz.com/event/sutton-broueriemarie-neige-chatelain-quartet-velvet-music/
LOCATION:Auberge Sutton Brouërie\, 27 rue Principale Sud\, Sutton\, Québec\, J0E 2K0\, Canada
CATEGORIES:Jazz à la Brouërie,Festival,Automne
ATTACH;FMTTYPE=image/jpeg:https://suttonjazz.com/wp-content/uploads/2023/09/Marie-neige-chatelaine-quartet-automne-2023-10-sept.jpg
END:VEVENT
BEGIN:VEVENT
DTSTART;TZID=America/Toronto:20230827T170000
DTEND;TZID=America/Toronto:20230827T190000
DTSTAMP:20260423T214225
CREATED:20230606T195259Z
LAST-MODIFIED:20230614T213554Z
UID:10000527-1693155600-1693162800@suttonjazz.com
SUMMARY:SUTTON BROUËRIEJazz de la Nouvelle-Orléans
DESCRIPTION:Stanley Lake – trompette & voix\, Claude Prud’homme – guitare\, Édouard Touchette – trombone\, Michael Hynes – clavier \n4 membres de cet ensemble renommé interprètent des chansons favorites du bayou.
URL:https://suttonjazz.com/event/jazz-de-la-nouvelle-orleans-2/2023-08-27/
LOCATION:Auberge Sutton Brouërie\, 27 rue Principale Sud\, Sutton\, Québec\, J0E 2K0\, Canada
CATEGORIES:Jazz à la Brouërie,Festival
ATTACH;FMTTYPE=image/jpeg:https://suttonjazz.com/wp-content/uploads/2023/06/DIXIE-5-web.jpg
END:VEVENT
BEGIN:VEVENT
DTSTART;TZID=America/Toronto:20230820T170000
DTEND;TZID=America/Toronto:20230820T190000
DTSTAMP:20260423T214225
CREATED:20230606T195259Z
LAST-MODIFIED:20230614T213554Z
UID:10000526-1692550800-1692558000@suttonjazz.com
SUMMARY:SUTTON BROUËRIEJazz de la Nouvelle-Orléans
DESCRIPTION:Stanley Lake – trompette & voix\, Claude Prud’homme – guitare\, Édouard Touchette – trombone\, Michael Hynes – clavier \n4 membres de cet ensemble renommé interprètent des chansons favorites du bayou.
URL:https://suttonjazz.com/event/jazz-de-la-nouvelle-orleans-2/2023-08-20/
LOCATION:Auberge Sutton Brouërie\, 27 rue Principale Sud\, Sutton\, Québec\, J0E 2K0\, Canada
CATEGORIES:Jazz à la Brouërie,Festival
ATTACH;FMTTYPE=image/jpeg:https://suttonjazz.com/wp-content/uploads/2023/06/DIXIE-5-web.jpg
END:VEVENT
BEGIN:VEVENT
DTSTART;TZID=America/Toronto:20230813T170000
DTEND;TZID=America/Toronto:20230813T190000
DTSTAMP:20260423T214225
CREATED:20230606T195259Z
LAST-MODIFIED:20230614T213554Z
UID:10000525-1691946000-1691953200@suttonjazz.com
SUMMARY:SUTTON BROUËRIEJazz de la Nouvelle-Orléans
DESCRIPTION:Stanley Lake – trompette & voix\, Claude Prud’homme – guitare\, Édouard Touchette – trombone\, Michael Hynes – clavier \n4 membres de cet ensemble renommé interprètent des chansons favorites du bayou.
URL:https://suttonjazz.com/event/jazz-de-la-nouvelle-orleans-2/2023-08-13/
LOCATION:Auberge Sutton Brouërie\, 27 rue Principale Sud\, Sutton\, Québec\, J0E 2K0\, Canada
CATEGORIES:Jazz à la Brouërie,Festival
ATTACH;FMTTYPE=image/jpeg:https://suttonjazz.com/wp-content/uploads/2023/06/DIXIE-5-web.jpg
END:VEVENT
BEGIN:VEVENT
DTSTART;TZID=America/Toronto:20230806T170000
DTEND;TZID=America/Toronto:20230806T190000
DTSTAMP:20260423T214225
CREATED:20230606T195259Z
LAST-MODIFIED:20230614T213554Z
UID:10000524-1691341200-1691348400@suttonjazz.com
SUMMARY:SUTTON BROUËRIEJazz de la Nouvelle-Orléans
DESCRIPTION:Stanley Lake – trompette & voix\, Claude Prud’homme – guitare\, Édouard Touchette – trombone\, Michael Hynes – clavier \n4 membres de cet ensemble renommé interprètent des chansons favorites du bayou.
URL:https://suttonjazz.com/event/jazz-de-la-nouvelle-orleans-2/2023-08-06/
LOCATION:Auberge Sutton Brouërie\, 27 rue Principale Sud\, Sutton\, Québec\, J0E 2K0\, Canada
CATEGORIES:Jazz à la Brouërie,Festival
ATTACH;FMTTYPE=image/jpeg:https://suttonjazz.com/wp-content/uploads/2023/06/DIXIE-5-web.jpg
END:VEVENT
BEGIN:VEVENT
DTSTART;TZID=America/Toronto:20230730T170000
DTEND;TZID=America/Toronto:20230730T190000
DTSTAMP:20260423T214225
CREATED:20230721T184706Z
LAST-MODIFIED:20230721T184706Z
UID:10000551-1690736400-1690743600@suttonjazz.com
SUMMARY:SUTTON BROUËRIEJazz de la Nouvelle-Orléans
DESCRIPTION:Stanley Lake – trompette & voix\, Claude Prud’homme – guitare\, Édouard Touchette – trombone\, Sylvie Goupil – clarinette & Michael Hynes – clavier \nCinq membres de cet ensemble renommé interprètent des chansons favorites du bayou.
URL:https://suttonjazz.com/event/jazz-de-la-nouvelle-orleans-4/
LOCATION:Auberge Sutton Brouërie\, 27 rue Principale Sud\, Sutton\, Québec\, J0E 2K0\, Canada
CATEGORIES:Jazz à la Brouërie,Festival
ATTACH;FMTTYPE=image/jpeg:https://suttonjazz.com/wp-content/uploads/2023/06/DIXIE-5-web.jpg
END:VEVENT
BEGIN:VEVENT
DTSTART;TZID=America/Toronto:20230723T170000
DTEND;TZID=America/Toronto:20230723T190000
DTSTAMP:20260423T214225
CREATED:20230721T184451Z
LAST-MODIFIED:20230726T165007Z
UID:10000550-1690131600-1690138800@suttonjazz.com
SUMMARY:SUTTON BROUËRIEJazz de la Nouvelle-Orléans
DESCRIPTION:Stanley Lake – trompette & voix\, Claude Prud’homme – guitare\, Édouard Touchette – trombone\, Sylvie Goupil – clarinette & Michael Hynes – clavier \nCinq membres de cet ensemble renommé interprètent des chansons favorites du bayou.
URL:https://suttonjazz.com/event/jazz-de-la-nouvelle-orleans-3/
LOCATION:Auberge Sutton Brouërie\, 27 rue Principale Sud\, Sutton\, Québec\, J0E 2K0\, Canada
CATEGORIES:Jazz à la Brouërie,Festival
ATTACH;FMTTYPE=image/jpeg:https://suttonjazz.com/wp-content/uploads/2023/06/DIXIE-5-web.jpg
END:VEVENT
BEGIN:VEVENT
DTSTART;TZID=America/Toronto:20230716T170000
DTEND;TZID=America/Toronto:20230716T190000
DTSTAMP:20260423T214225
CREATED:20230721T184806Z
LAST-MODIFIED:20230726T165406Z
UID:10000549-1689526800-1689534000@suttonjazz.com
SUMMARY:SUTTON BROUËRIEJazz de la Nouvelle-Orléans
DESCRIPTION:Stanley Lake – trompette & voix\, Claude Prud’homme – guitare\, Édouard Touchette – trombone\, Sylvie Goupil – clarinette & Michael Hynes – clavier \nCinq membres de cet ensemble renommé interprètent des chansons favorites du bayou.
URL:https://suttonjazz.com/event/jazz-de-la-nouvelle-orleans-5/
LOCATION:Auberge Sutton Brouërie\, 27 rue Principale Sud\, Sutton\, Québec\, J0E 2K0\, Canada
CATEGORIES:Jazz à la Brouërie,Festival
ATTACH;FMTTYPE=image/jpeg:https://suttonjazz.com/wp-content/uploads/2023/06/DIXIE-5-web.jpg
END:VEVENT
BEGIN:VEVENT
DTSTART;TZID=America/Toronto:20220828T170000
DTEND;TZID=America/Toronto:20220828T190000
DTSTAMP:20260423T214225
CREATED:20220614T181738Z
LAST-MODIFIED:20220622T113825Z
UID:10000129-1661706000-1661713200@suttonjazz.com
SUMMARY:Trio Nicolas Fortin
DESCRIPTION:Trio formé d’un guitariste\, d’un joueur de flugelhorn et d’un bassiste\, fortement inspiré du trio de Chet Baker avec Doug Rainey et NHOP. Le trio Nicolas Fortin joue des standards du jazz et blues\, ainsi que certaines pièces un peu plus obscures\, jouées par Chet ou que le trio affectionne tout simplement.
URL:https://suttonjazz.com/event/nicolas-fortin-trio/
LOCATION:Auberge Sutton Brouërie\, 27 rue Principale Sud\, Sutton\, Québec\, J0E 2K0\, Canada
CATEGORIES:Jazz en ville,Jazz à la Brouërie
END:VEVENT
BEGIN:VEVENT
DTSTART;TZID=America/Toronto:20220814T170000
DTEND;TZID=America/Toronto:20220814T190000
DTSTAMP:20260423T214225
CREATED:20220614T181627Z
LAST-MODIFIED:20220623T131258Z
UID:10000127-1660496400-1660503600@suttonjazz.com
SUMMARY:Trio Simon Esterez
DESCRIPTION:Michael Hynes\, piano\, Willy leMaistre\, guitare et Simon Esterez\, guitare.
URL:https://suttonjazz.com/event/trio-simon-esterez/
LOCATION:Auberge Sutton Brouërie\, 27 rue Principale Sud\, Sutton\, Québec\, J0E 2K0\, Canada
CATEGORIES:Jazz en ville,Jazz à la Brouërie
END:VEVENT
BEGIN:VEVENT
DTSTART;TZID=America/Toronto:20220807T170000
DTEND;TZID=America/Toronto:20220807T190000
DTSTAMP:20260423T214225
CREATED:20220614T181241Z
LAST-MODIFIED:20220623T131205Z
UID:10000125-1659891600-1659898800@suttonjazz.com
SUMMARY:Trio Alex Bellegarde
DESCRIPTION:Alex Bellegarde\, contrebasse\, Davis Kovacs\, trompette et Willy leMaistre\, guitare
URL:https://suttonjazz.com/event/trio-alex-bellegarde/
LOCATION:Auberge Sutton Brouërie\, 27 rue Principale Sud\, Sutton\, Québec\, J0E 2K0\, Canada
CATEGORIES:Jazz en ville,Jazz à la Brouërie
END:VEVENT
BEGIN:VEVENT
DTSTART;TZID=America/Toronto:20220731T170000
DTEND;TZID=America/Toronto:20220731T190000
DTSTAMP:20260423T214225
CREATED:20220614T180212Z
LAST-MODIFIED:20220621T115427Z
UID:10000123-1659286800-1659294000@suttonjazz.com
SUMMARY:Trio Isabella Rachiele
DESCRIPTION:Isabella Rachiele est une chanteuse de jazz basée à Montréal et titulaire d’un baccalauréat en interprétation jazz de McGill. Elle termine actuellement sa maîtrise en musicothérapie à Concordia. Elle se produit régulièrement en jazz ainsi qu’en R&B\, funk\, néo-soul et pop à Montréal et dans les environs. Le trio d’Isabella Rachiele offrira une soirée remplie d’arrangements émouvants de standards de jazz de ses idoles comme Chet Baker\, Ella Fitzgerald\, Nat King Cole\, et plus encore. \n \nEn savoir plus
URL:https://suttonjazz.com/event/trio-isabella-rachiele/
LOCATION:Auberge Sutton Brouërie\, 27 rue Principale Sud\, Sutton\, Québec\, J0E 2K0\, Canada
CATEGORIES:Jazz en ville,Jazz à la Brouërie
END:VEVENT
BEGIN:VEVENT
DTSTART;TZID=America/Toronto:20220724T170000
DTEND;TZID=America/Toronto:20220724T190000
DTSTAMP:20260423T214225
CREATED:20220614T175209Z
LAST-MODIFIED:20220620T195545Z
UID:10000121-1658682000-1658689200@suttonjazz.com
SUMMARY:Trio Racicot Boudreau Savoie
DESCRIPTION:Le trio interprétera à sa façon des standards de la tradition jazz. \nMaxime Racicot\, guitare\, Jonathan-Guillaume Boudreau\, contrebasse et Richard Savoie\, saxophone Ténor
URL:https://suttonjazz.com/event/trio-racicot-boudreau-savoie/
LOCATION:Auberge Sutton Brouërie\, 27 rue Principale Sud\, Sutton\, Québec\, J0E 2K0\, Canada
CATEGORIES:Jazz en ville,Jazz à la Brouërie
END:VEVENT
BEGIN:VEVENT
DTSTART;TZID=America/Toronto:20220717T170000
DTEND;TZID=America/Toronto:20220717T190000
DTSTAMP:20260423T214225
CREATED:20220614T174812Z
LAST-MODIFIED:20220623T130912Z
UID:10000119-1658077200-1658084400@suttonjazz.com
SUMMARY:The Barr Band
DESCRIPTION:Nicolas Lanctôt\, guitare\, Vincent Dessureault\, basse et Chris Barr\, trompette
URL:https://suttonjazz.com/event/the-barr-band/
LOCATION:Auberge Sutton Brouërie\, 27 rue Principale Sud\, Sutton\, Québec\, J0E 2K0\, Canada
CATEGORIES:Jazz en ville,Jazz à la Brouërie
END:VEVENT
BEGIN:VEVENT
DTSTART;TZID=America/Toronto:20220710T170000
DTEND;TZID=America/Toronto:20220710T190000
DTSTAMP:20260423T214225
CREATED:20220614T174627Z
LAST-MODIFIED:20220623T130329Z
UID:10000117-1657472400-1657479600@suttonjazz.com
SUMMARY:Trio Christine Maisonneuve
DESCRIPTION:Jazz soul avec une touche de funk. \nTrio Christine Maisonneuve (voix) avec Willy leMaistre (guitare) et Seb Bachand (basse)
URL:https://suttonjazz.com/event/christine-maisonneuve-trio/
LOCATION:Auberge Sutton Brouërie\, 27 rue Principale Sud\, Sutton\, Québec\, J0E 2K0\, Canada
CATEGORIES:Jazz en ville,Jazz à la Brouërie
END:VEVENT
BEGIN:VEVENT
DTSTART;TZID=America/Toronto:20220703T170000
DTEND;TZID=America/Toronto:20220703T190000
DTSTAMP:20260423T214225
CREATED:20220614T174255Z
LAST-MODIFIED:20220623T125956Z
UID:10000115-1656867600-1656874800@suttonjazz.com
SUMMARY:Trio Zacharie Bachand
DESCRIPTION:Le nouvel ensemble de Zacharie Bachand présente une collection de standards et de compositions originales inspirées des musique folk et jazz. \nZacharie Bachand \, guitare électrique et pedal steel\, avec Sébastien Bachand\, basse et guitare acoustique\, et Aleksi Campagne\, violon.
URL:https://suttonjazz.com/event/trio-zacharie-bachand/
LOCATION:Auberge Sutton Brouërie\, 27 rue Principale Sud\, Sutton\, Québec\, J0E 2K0\, Canada
CATEGORIES:Jazz en ville,Jazz à la Brouërie
END:VEVENT
END:VCALENDAR