BEGIN:VCALENDAR
VERSION:2.0
PRODID:-//Sutton Jazz - ECPv6.15.20//NONSGML v1.0//EN
CALSCALE:GREGORIAN
METHOD:PUBLISH
X-WR-CALNAME:Sutton Jazz
X-ORIGINAL-URL:https://suttonjazz.com
X-WR-CALDESC:Évènements pour Sutton Jazz
REFRESH-INTERVAL;VALUE=DURATION:PT1H
X-Robots-Tag:noindex
X-PUBLISHED-TTL:PT1H
BEGIN:VTIMEZONE
TZID:America/Toronto
BEGIN:DAYLIGHT
TZOFFSETFROM:-0500
TZOFFSETTO:-0400
TZNAME:EDT
DTSTART:20250309T070000
END:DAYLIGHT
BEGIN:STANDARD
TZOFFSETFROM:-0400
TZOFFSETTO:-0500
TZNAME:EST
DTSTART:20251102T060000
END:STANDARD
BEGIN:DAYLIGHT
TZOFFSETFROM:-0500
TZOFFSETTO:-0400
TZNAME:EDT
DTSTART:20260308T070000
END:DAYLIGHT
BEGIN:STANDARD
TZOFFSETFROM:-0400
TZOFFSETTO:-0500
TZNAME:EST
DTSTART:20261101T060000
END:STANDARD
BEGIN:DAYLIGHT
TZOFFSETFROM:-0500
TZOFFSETTO:-0400
TZNAME:EDT
DTSTART:20270314T070000
END:DAYLIGHT
BEGIN:STANDARD
TZOFFSETFROM:-0400
TZOFFSETTO:-0500
TZNAME:EST
DTSTART:20271107T060000
END:STANDARD
END:VTIMEZONE
BEGIN:VEVENT
DTSTART;TZID=America/Toronto:20260201T170000
DTEND;TZID=America/Toronto:20260201T190000
DTSTAMP:20260421T055359
CREATED:20260124T185516Z
LAST-MODIFIED:20260124T185516Z
UID:10001537-1769965200-1769972400@suttonjazz.com
SUMMARY:JAZZ À L'ANNÉE - SUTTON BROUËRIEÉdouard Touchette Trio
DESCRIPTION:Édouard Touchette au trombone \nVincent Ravary à la batterie \nAlex Le Blanc à la contrebasse \nCompositions et arrangements \nRéservations 450-538-0005
URL:https://suttonjazz.com/event/jazz-a-lannee-sutton-brouerieedouard-touchette-trio/
LOCATION:Auberge Sutton Brouërie\, 27 rue Principale Sud\, Sutton\, Québec\, J0E 2K0\, Canada
CATEGORIES:Hiver,Jazz à la Brouërie
ATTACH;FMTTYPE=image/jpeg:https://suttonjazz.com/wp-content/uploads/2025/02/Classiqueedouard2__.jpg
END:VEVENT
BEGIN:VEVENT
DTSTART;TZID=America/Toronto:20260208T170000
DTEND;TZID=America/Toronto:20260208T190000
DTSTAMP:20260421T055359
CREATED:20260124T185904Z
LAST-MODIFIED:20260124T185904Z
UID:10001538-1770570000-1770577200@suttonjazz.com
SUMMARY:JAZZ À L'ANNÉE - AUBERGE SUTTON BROUËRIEDominique Poirier et Colin Dinard
DESCRIPTION:Le 8 Février\, l’accordéoniste Dominique Poirier et le saxophoniste Colin Dinard vous présentent un répertoire de pièces qui leur tiennent à cœur. Des compositions\, des standards et des pièces brésiliennes seront au menu. Attendez-vous aussi à des explorations d’effets sur ces deux instruments acoustiques.\n\n\n\n\n\n\n\n\n\nRéservations 450-538-0005
URL:https://suttonjazz.com/event/jazz-a-lannee-auberge-sutton-broueriedominique-poirier-et-colin-dinard-2/
LOCATION:Auberge Sutton Brouërie\, 27 rue Principale Sud\, Sutton\, Québec\, J0E 2K0\, Canada
CATEGORIES:Hiver,Jazz à la Brouërie
ATTACH;FMTTYPE=image/jpeg:https://suttonjazz.com/wp-content/uploads/2025/12/Dominique-Poirier-photo-accordeon.jpeg
END:VEVENT
BEGIN:VEVENT
DTSTART;TZID=America/Toronto:20260215T170000
DTEND;TZID=America/Toronto:20260215T190000
DTSTAMP:20260421T055359
CREATED:20260124T190208Z
LAST-MODIFIED:20260124T190411Z
UID:10001542-1771174800-1771182000@suttonjazz.com
SUMMARY:JAZZ À L'ANNÉE - SUTTON BROUËRIEBen Gilbert / Dominique Poirier Duo
DESCRIPTION:Venez vous délecter de la délicieuse interaction virtuose du duo Dominique Poirier et Ben Gilbert\, qui interprète un vaste répertoire standard jazz\, dans des arrangements uniques\, ainsi que des compositions originales. Partenaires musicaux et amis de longue date\, ces deux musiciens passionnants communiquent d’une manière qui ne peut venir que d’années de collaboration\, s’encourageant constamment l’un l’autre d’une manière contagieuse\, qui ne manque jamais d’infecter l’auditeur.\n\n\nRéservations 450-538-0005
URL:https://suttonjazz.com/event/jazz-a-lannee-sutton-brouerieben-gilbert-dominique-poirier-duo/
LOCATION:Auberge Sutton Brouërie\, 27 rue Principale Sud\, Sutton\, Québec\, J0E 2K0\, Canada
CATEGORIES:Hiver,Jazz à la Brouërie
ATTACH;FMTTYPE=image/jpeg:https://suttonjazz.com/wp-content/uploads/2026/01/Dominique-Poirier.jpg
END:VEVENT
BEGIN:VEVENT
DTSTART;TZID=America/Toronto:20260222T170000
DTEND;TZID=America/Toronto:20260222T190000
DTSTAMP:20260421T055359
CREATED:20260124T184951Z
LAST-MODIFIED:20260124T184951Z
UID:10001535-1771779600-1771786800@suttonjazz.com
SUMMARY:JAZZ À L'ANNÉE - AUBERGE SUTTON BROUËRIEHOMEBREW DIXIELAND BAND
DESCRIPTION:Ce groupe formé en 1995 et originaire des Cantons de l’Est propose des airs festifs et intemporels de la Nouvelle-Orléans. Ses rythmes entrainants vous feront voyager\, sourire et taper du pied. Stanley Lake\, trompette; Sylvie Goupil\, clarinette; Édouard Touchette\, trombone; Claude Prud’homme\, banjo et Micheal Hynes\, piano\, réinterprètent ce vaste répertoire\, sans craindre de sortir des sentiers battus et même d’ajouter des compositions originales. \nRéservations 450-538-0005
URL:https://suttonjazz.com/event/jazz-a-lannee-auberge-sutton-broueriehomebrew-dixieland-band-9/
LOCATION:Auberge Sutton Brouërie\, 27 rue Principale Sud\, Sutton\, Québec\, J0E 2K0\, Canada
CATEGORIES:Hiver,Jazz à la Brouërie
ATTACH;FMTTYPE=image/jpeg:https://suttonjazz.com/wp-content/uploads/2025/01/Dixie-5-rotated.jpeg
END:VEVENT
END:VCALENDAR